BEGIN:VCALENDAR
VERSION:2.0
PRODID:-//CERN//INDICO//EN
BEGIN:VEVENT
SUMMARY:Dark matter
DTSTART:20260424T014500Z
DTEND:20260424T073000Z
DTSTAMP:20260425T224400Z
UID:indico-event-6383@indico.pnp.ustc.edu.cn
DESCRIPTION:Speakers: Ningqiang Song (Institute of Theoretical Physics\, C
 hinese Academy of Sciences)\n\nhttps://indico.pnp.ustc.edu.cn/event/6383/
URL:https://indico.pnp.ustc.edu.cn/event/6383/
END:VEVENT
END:VCALENDAR
