BEGIN:VCALENDAR
VERSION:2.0
PRODID:-//CERN//INDICO//EN
BEGIN:VEVENT
SUMMARY:第十四届全国先进气体探测器研讨会
DTSTART:20260722T000000Z
DTEND:20260725T100000Z
DTSTAMP:20260425T224400Z
UID:indico-event-6366@indico.pnp.ustc.edu.cn
DESCRIPTION:第十四届全国先进气体探测器研讨会将于2026年7
 月22日至7月25日在惠州举行。全国先进气体探测器研讨会
 是由原核探测与核电子学国家重点实验室发起的系列学
 术会议，每年举行一次，旨在促进国内先进气体探测器
 及其读出电子学技术的发展，推动相关技术在基础和其
 他领域中的应用。第十四届研讨会由中国科学院近代物
 理研究所主办。\n会议热忱欢迎先进气体探测器及相关读
 出电子学研究领域的科研人员踊跃参会，报告各自在此
 领域的研究进展和成果，并进行深入讨论与交流。会议
 还将组织安排特邀报告，介绍本领域的重要研究工作、
 前沿动态和发展趋势。特邀报告由会议组委会指定邀请
 ；其他报告通过注册网页提交。 \n会议时间：2026年7月22
 日- 7月25日，7月22日（上午10:00-下午20:00）报到，7月25日
 装置区参观。\n会议地点： 中国科学院近代物理研究所
 （惠州河桥园区），惠州市惠城区河南岸新桥北路1号\n
 会议注册：\n（一）会议注册费：教工1400元/人，学生1000
 元/人，家属600元/人。\n会议注册费由中国科学院近代物
 理研究所收取并开具发票，请在注册时提供发票抬头等
 信息。\n（二）会议统一安排食宿，食宿费用自理。\n（
 三）住宿信息：惠州市康帝酒店，广东省惠州市环城西
 一路18号\n（四）会议注册网址： \n会议注册截止日期：5
 月20日，报告摘要提交截止日期：5月20日\n注意：会议注
 册时请使用中文注册。\n \n会议组委会：（姓名拼音排
 序）\n班勇（北京大学）\n段利敏(中国科学院近代物理研
 究所)\n胡碧涛(兰州大学)\n李笑梅(中国原子能科学研究院
 )\n李玉兰(清华大学)\n刘建北(中国科学技术大学)\n刘树彬
 (中国科学技术大学)\n欧阳群(中国科学院高能物理研究所
 )\n郑阳恒(中国科学院大学)\n祝成光(山东大学)\n朱科军(
 中国科学院高能物理研究所)\n \n本地组委会：\n杨贺润
 （中国科学院近代物理研究所）\n魏向伦（中国科学院近
 代物理研究所）\n何周波（中国科学院近代物理研究所）
 \n何志轩（中国科学院近代物理研究所）\n \n会议联系人
 ：\n何志轩（中国科学院近代物理研究所）：hezhixuan@impca
 s.ac.cn\, 18980161346\n杨贺润（中国科学院近代物理研究所）
 ：yanghr@impcas.ac.cn\, 13919378224\n魏向伦（中国科学院近代物
 理研究所）：weixl@impcas.ac.cn\, 15532935782\n王丽（中国科学
 技术大学）：liwang51@ustc.edu.cn，18010881049\n  \n\nhttps://indi
 co.pnp.ustc.edu.cn/event/6366/
URL:https://indico.pnp.ustc.edu.cn/event/6366/
END:VEVENT
END:VCALENDAR
