BEGIN:VCALENDAR
VERSION:2.0
PRODID:-//CERN//INDICO//EN
BEGIN:VEVENT
SUMMARY:重子衰变中正反粒子不对称的理论新进展
DTSTART:20260424T074000Z
DTEND:20260424T094000Z
DTSTAMP:20260421T221700Z
UID:indico-event-6356@indico.pnp.ustc.edu.cn
DESCRIPTION:Speakers: 于福升 (兰州大学)\n\n\n\nhttps://indico.pnp.u
 stc.edu.cn/event/6356/
LOCATION:A608
URL:https://indico.pnp.ustc.edu.cn/event/6356/
END:VEVENT
END:VCALENDAR
