BEGIN:VCALENDAR
VERSION:2.0
PRODID:-//CERN//INDICO//EN
BEGIN:VEVENT
SUMMARY:SCEP Weekly meeting @ 2026-04-23
DTSTART:20260423T060000Z
DTEND:20260423T080000Z
DTSTAMP:20260424T095300Z
UID:indico-event-6349@indico.pnp.ustc.edu.cn
DESCRIPTION:https://indico.pnp.ustc.edu.cn/event/6349/
URL:https://indico.pnp.ustc.edu.cn/event/6349/
END:VEVENT
END:VCALENDAR
