BEGIN:VCALENDAR
VERSION:2.0
PRODID:-//CERN//INDICO//EN
BEGIN:VEVENT
SUMMARY:Higgs Physics
DTSTART:20260417T014500Z
DTEND:20260417T073000Z
DTSTAMP:20260425T224400Z
UID:indico-event-6340@indico.pnp.ustc.edu.cn
DESCRIPTION:Speakers: 健 王 (山东大学)\n\nhttps://indico.pnp.ustc.ed
 u.cn/event/6340/
URL:https://indico.pnp.ustc.edu.cn/event/6340/
END:VEVENT
END:VCALENDAR
