BEGIN:VCALENDAR
VERSION:2.0
PRODID:-//CERN//INDICO//EN
BEGIN:VEVENT
SUMMARY:Beam particle source and new coating device
DTSTART:20260417T013000Z
DTEND:20260417T033000Z
DTSTAMP:20260419T114500Z
UID:indico-event-6335@indico.pnp.ustc.edu.cn
DESCRIPTION:Speakers: 张艾霖 (中国科学技术大学)\n\n\n\nhttps://
 indico.pnp.ustc.edu.cn/event/6335/
LOCATION:C407
URL:https://indico.pnp.ustc.edu.cn/event/6335/
END:VEVENT
END:VCALENDAR
