BEGIN:VCALENDAR
VERSION:2.0
PRODID:-//CERN//INDICO//EN
BEGIN:VEVENT
SUMMARY:SCEP Weekly meeting @ 2026-04-16
DTSTART:20260416T060000Z
DTEND:20260416T080000Z
DTSTAMP:20260424T141300Z
UID:indico-event-6322@indico.pnp.ustc.edu.cn
DESCRIPTION:https://indico.pnp.ustc.edu.cn/event/6322/
URL:https://indico.pnp.ustc.edu.cn/event/6322/
END:VEVENT
END:VCALENDAR
