BEGIN:VCALENDAR
VERSION:2.0
PRODID:-//CERN//INDICO//EN
BEGIN:VEVENT
SUMMARY:H-NS whitepaper
DTSTART:20260413T000000Z
DTEND:20260413T090000Z
DTSTAMP:20260425T195100Z
UID:indico-event-6312@indico.pnp.ustc.edu.cn
DESCRIPTION:H-NS whitepaper (2026-4)\n\nhttps://indico.pnp.ustc.edu.cn/eve
 nt/6312/
URL:https://indico.pnp.ustc.edu.cn/event/6312/
END:VEVENT
END:VCALENDAR
