BEGIN:VCALENDAR
VERSION:2.0
PRODID:-//CERN//INDICO//EN
BEGIN:VEVENT
SUMMARY:Collider Physics: Part One
DTSTART:20260413T030000Z
DTEND:20260413T050000Z
DTSTAMP:20260425T224400Z
UID:indico-event-6305@indico.pnp.ustc.edu.cn
DESCRIPTION:Speakers: Antonio BARONCELLI (University of Science and Techno
 logy of China)\n\nhttps://indico.pnp.ustc.edu.cn/event/6305/
URL:https://indico.pnp.ustc.edu.cn/event/6305/
END:VEVENT
END:VCALENDAR
