BEGIN:VCALENDAR
VERSION:2.0
PRODID:-//CERN//INDICO//EN
BEGIN:VEVENT
SUMMARY:Proton Structure in Basis Light-front Quantization
DTSTART:20260416T074000Z
DTEND:20260416T094000Z
DTSTAMP:20260421T221700Z
UID:indico-event-6295@indico.pnp.ustc.edu.cn
DESCRIPTION:Speakers: 赵行波 (中国科学院近代物理研究所)\n\n
 \n\nhttps://indico.pnp.ustc.edu.cn/event/6295/
LOCATION:A608
URL:https://indico.pnp.ustc.edu.cn/event/6295/
END:VEVENT
END:VCALENDAR
