BEGIN:VCALENDAR
VERSION:2.0
PRODID:-//CERN//INDICO//EN
BEGIN:VEVENT
SUMMARY:Neutrino
DTSTART:20260410T014500Z
DTEND:20260410T073000Z
DTSTAMP:20260425T224400Z
UID:indico-event-6285@indico.pnp.ustc.edu.cn
DESCRIPTION:Speakers: Guijun Ding (USTC)\n\nhttps://indico.pnp.ustc.edu.cn
 /event/6285/
URL:https://indico.pnp.ustc.edu.cn/event/6285/
END:VEVENT
END:VCALENDAR
