BEGIN:VCALENDAR
VERSION:2.0
PRODID:-//CERN//INDICO//EN
BEGIN:VEVENT
SUMMARY:Long-lived particles and Heavy neutral leptons
DTSTART:20260403T014500Z
DTEND:20260403T073000Z
DTSTAMP:20260425T224400Z
UID:indico-event-6275@indico.pnp.ustc.edu.cn
DESCRIPTION:Speakers: Zeren Simon (泽人) Wang (王) (Hefei University of
  Technology （合肥工业大学）)\n\nhttps://indico.pnp.ustc.edu.cn/ev
 ent/6275/
URL:https://indico.pnp.ustc.edu.cn/event/6275/
END:VEVENT
END:VCALENDAR
