BEGIN:VCALENDAR
VERSION:2.0
PRODID:-//CERN//INDICO//EN
BEGIN:VEVENT
SUMMARY:BESIII实验的径迹探测
DTSTART:20260410T074000Z
DTEND:20260410T094000Z
DTSTAMP:20260421T221700Z
UID:indico-event-6264@indico.pnp.ustc.edu.cn
DESCRIPTION:Speakers: 伍灵慧 (中国科学院高能物理研究所)\n\n
 \n\nhttps://indico.pnp.ustc.edu.cn/event/6264/
LOCATION:A608
URL:https://indico.pnp.ustc.edu.cn/event/6264/
END:VEVENT
END:VCALENDAR
