BEGIN:VCALENDAR
VERSION:2.0
PRODID:-//CERN//INDICO//EN
BEGIN:VEVENT
SUMMARY:SCEP Weekly meeting @ 2026-04-02
DTSTART:20260402T060000Z
DTEND:20260402T080000Z
DTSTAMP:20260424T141300Z
UID:indico-event-6246@indico.pnp.ustc.edu.cn
DESCRIPTION:https://indico.pnp.ustc.edu.cn/event/6246/
URL:https://indico.pnp.ustc.edu.cn/event/6246/
END:VEVENT
END:VCALENDAR
